

BEGIN:VCALENDAR
VERSION:2.0
PRODID:-//Eglise Protestante Evangélique du Val d&#039;Yerres - ECPv6.8.1//NONSGML v1.0//EN
CALSCALE:GREGORIAN
METHOD:PUBLISH
X-WR-CALNAME:Eglise Protestante Evangélique du Val d&#039;Yerres
X-ORIGINAL-URL:https://www.epevy.org
X-WR-CALDESC:Évènements pour Eglise Protestante Evangélique du Val d&#039;Yerres
REFRESH-INTERVAL;VALUE=DURATION:PT1H
X-Robots-Tag:noindex
X-PUBLISHED-TTL:PT1H
BEGIN:VTIMEZONE
TZID:Europe/Paris
BEGIN:DAYLIGHT
TZOFFSETFROM:+0100
TZOFFSETTO:+0200
TZNAME:CEST
DTSTART:20220327T010000
END:DAYLIGHT
BEGIN:STANDARD
TZOFFSETFROM:+0200
TZOFFSETTO:+0100
TZNAME:CET
DTSTART:20221030T010000
END:STANDARD
END:VTIMEZONE
BEGIN:VEVENT
DTSTART;TZID=Europe/Paris:20220605T120000
DTEND;TZID=Europe/Paris:20220605T120000
DTSTAMP:20260426T033410
CREATED:20220602T150306Z
LAST-MODIFIED:20220602T150306Z
UID:3825-1654430400-1654430400@www.epevy.org
SUMMARY:Présentation du projet missionnaire pour la Mongolie
DESCRIPTION:Présentation du projet missionnaire de Reechy pour la Mongolie après le culte
URL:https://www.epevy.org/event/presentation-du-projet-missionnaire-pour-la-mongolie/
LOCATION:Au Relais Saint-Paul\, 2bis\, Bd de l’Île de France\, Brunoy\, 91800\, France
CATEGORIES:Divers
END:VEVENT
END:VCALENDAR