

BEGIN:VCALENDAR
VERSION:2.0
PRODID:-//Eglise Protestante Evangélique du Val d&#039;Yerres - ECPv6.8.1//NONSGML v1.0//EN
CALSCALE:GREGORIAN
METHOD:PUBLISH
X-WR-CALNAME:Eglise Protestante Evangélique du Val d&#039;Yerres
X-ORIGINAL-URL:https://www.epevy.org
X-WR-CALDESC:Évènements pour Eglise Protestante Evangélique du Val d&#039;Yerres
REFRESH-INTERVAL;VALUE=DURATION:PT1H
X-Robots-Tag:noindex
X-PUBLISHED-TTL:PT1H
BEGIN:VTIMEZONE
TZID:Europe/Paris
BEGIN:DAYLIGHT
TZOFFSETFROM:+0100
TZOFFSETTO:+0200
TZNAME:CEST
DTSTART:20220327T010000
END:DAYLIGHT
BEGIN:STANDARD
TZOFFSETFROM:+0200
TZOFFSETTO:+0100
TZNAME:CET
DTSTART:20221030T010000
END:STANDARD
END:VTIMEZONE
BEGIN:VEVENT
DTSTART;TZID=Europe/Paris:20220430T100000
DTEND;TZID=Europe/Paris:20220430T170000
DTSTAMP:20260426T045830
CREATED:20220424T182057Z
LAST-MODIFIED:20220424T182057Z
UID:3754-1651312800-1651338000@www.epevy.org
SUMMARY:Collecte en faveur de Madagascar
DESCRIPTION:Fermeture des fûts samedi 30/04 matin \nC’est encore possible de faire des dons
URL:https://www.epevy.org/event/collecte-en-faveur-de-madagascar/
CATEGORIES:Divers
END:VEVENT
END:VCALENDAR