

BEGIN:VCALENDAR
VERSION:2.0
PRODID:-//Eglise Protestante Evangélique du Val d&#039;Yerres - ECPv6.8.1//NONSGML v1.0//EN
CALSCALE:GREGORIAN
METHOD:PUBLISH
X-ORIGINAL-URL:https://www.epevy.org
X-WR-CALDESC:Évènements pour Eglise Protestante Evangélique du Val d&#039;Yerres
REFRESH-INTERVAL;VALUE=DURATION:PT1H
X-Robots-Tag:noindex
X-PUBLISHED-TTL:PT1H
BEGIN:VTIMEZONE
TZID:Europe/Paris
BEGIN:DAYLIGHT
TZOFFSETFROM:+0100
TZOFFSETTO:+0200
TZNAME:CEST
DTSTART:20220327T010000
END:DAYLIGHT
BEGIN:STANDARD
TZOFFSETFROM:+0200
TZOFFSETTO:+0100
TZNAME:CET
DTSTART:20221030T010000
END:STANDARD
END:VTIMEZONE
BEGIN:VEVENT
DTSTART;VALUE=DATE:20221218
DTEND;VALUE=DATE:20221219
DTSTAMP:20260425T205424
CREATED:20221019T102618Z
LAST-MODIFIED:20221019T102618Z
UID:4019-1671321600-1671407999@www.epevy.org
SUMMARY:Culte de Noël
DESCRIPTION:
URL:https://www.epevy.org/event/culte-de-noel/
CATEGORIES:Dates à retenir
END:VEVENT
END:VCALENDAR