

BEGIN:VCALENDAR
VERSION:2.0
PRODID:-//Eglise Protestante Evangélique du Val d&#039;Yerres - ECPv6.8.1//NONSGML v1.0//EN
CALSCALE:GREGORIAN
METHOD:PUBLISH
X-WR-CALNAME:Eglise Protestante Evangélique du Val d&#039;Yerres
X-ORIGINAL-URL:https://www.epevy.org
X-WR-CALDESC:Évènements pour Eglise Protestante Evangélique du Val d&#039;Yerres
REFRESH-INTERVAL;VALUE=DURATION:PT1H
X-Robots-Tag:noindex
X-PUBLISHED-TTL:PT1H
BEGIN:VTIMEZONE
TZID:Europe/Paris
BEGIN:DAYLIGHT
TZOFFSETFROM:+0100
TZOFFSETTO:+0200
TZNAME:CEST
DTSTART:20220327T010000
END:DAYLIGHT
BEGIN:STANDARD
TZOFFSETFROM:+0200
TZOFFSETTO:+0100
TZNAME:CET
DTSTART:20221030T010000
END:STANDARD
END:VTIMEZONE
BEGIN:VEVENT
DTSTART;TZID=Europe/Paris:20221113T100000
DTEND;TZID=Europe/Paris:20221113T120000
DTSTAMP:20260425T205146
CREATED:20221007T232150Z
LAST-MODIFIED:20221007T233240Z
UID:4001-1668333600-1668340800@www.epevy.org
SUMMARY:Dimanche de l'Eglise Persécutée
DESCRIPTION:https://dep.portesouvertes.fr/
URL:https://www.epevy.org/event/dimanche-de-leglise-persecutee/
LOCATION:Au Relais Saint-Paul\, 2bis\, Bd de l’Île de France\, Brunoy\, 91800\, France
CATEGORIES:Dates à retenir
END:VEVENT
BEGIN:VEVENT
DTSTART;TZID=Europe/Paris:20221120T100000
DTEND;TZID=Europe/Paris:20221120T120000
DTSTAMP:20260425T205146
CREATED:20221007T232712Z
LAST-MODIFIED:20221007T232712Z
UID:4003-1668938400-1668945600@www.epevy.org
SUMMARY:Assemblée Générale Extraordinaire EPEVY
DESCRIPTION:Assemblée Générale Extraordinaire EPEVY \nà l’issue du culte – Pas d’étude biblique pour les enfants
URL:https://www.epevy.org/event/assemblee-generale-extraordinaire-epevy/
LOCATION:Au Relais Saint-Paul\, 2bis\, Bd de l’Île de France\, Brunoy\, 91800\, France
CATEGORIES:Dates à retenir
END:VEVENT
END:VCALENDAR